BEGIN:VCALENDAR
VERSION:2.0
PRODID:-//ChamberMaster//Event Calendar 2.0//EN
METHOD:PUBLISH
X-PUBLISHED-TTL:P3D
REFRESH-INTERVAL:P3D
CALSCALE:GREGORIAN
BEGIN:VEVENT
DTSTART:20211018T160000Z
DTEND:20211211T170000Z
X-MICROSOFT-CDO-ALLDAYEVENT:FALSE
SUMMARY:NECCA Fall 2 Session Classes
DESCRIPTION:Try something new this fall! Find out how circus classes can help anyone express themselves\, reach fitness goals\, de-stress\, and have fun! NECCA offers classes for ages 3 and up - all levels\, all abilities. Fly through the air on a trapeze\, climb on a rope\, or stay grounded with flexibility classes. We have something for everyone! REGISTER HERE: https://necenterforcircusarts.asapconnected.com/ WHEN: Fall Session 2 runs Oct. 18   Dec. 12\, 2021 WHERE: 10 Town Crier Dr Brattleboro\, VT 05301 MORE INFO: https://necenterforcircusarts.org/training/
X-ALT-DESC;FMTTYPE=text/html:Try something new this fall! Find out how circus classes can help anyone express themselves\, reach fitness goals\, de-stress\, and have fun! NECCA offers classes for ages 3 and up - all levels\, all abilities. Fly through the air on a trapeze\, climb on a rope\, or stay grounded with flexibility classes. We have something for everyone! REGISTER HERE: https://necenterforcircusarts.asapconnected.com/ WHEN: Fall Session 2 runs Oct. 18 &ndash\; Dec. 12\, 2021 WHERE: 10 Town Crier Dr Brattleboro\, VT 05301 MORE INFO: https://necenterforcircusarts.org/training/
LOCATION:NECCA 10 Town Crier Dr. Brattleboro\, VT 05301
UID:e.1230.23846
SEQUENCE:3
DTSTAMP:20260421T105154Z
URL:http://amherstarea.chambermaster.com/events/details/necca-fall-2-session-classes-23846
END:VEVENT

END:VCALENDAR
